BEGIN:VCALENDAR
VERSION:2.0
PRODID:-//wp-events-plugin.com//7.2.3.1//EN
TZID:Europe/Rome
X-WR-TIMEZONE:Europe/Rome
BEGIN:VEVENT
UID:38@absl.it
DTSTART;TZID=Europe/Rome:20260423T093000
DTEND;TZID=Europe/Rome:20260425T093000
DTSTAMP:20260420T075307Z
URL:https://absl.it/eventi/festa-della-liberazione-2026/
SUMMARY:FESTA DELLA LIBERAZIONE 2026
DESCRIPTION:23 aprile 2026\nORE 09:30 \nDeposizione corona presso la lapide
  caduti civili di Viale Ildebrando Cocconi\, 30\nORE 10:00 \nDeposizione c
 orona presso il monumento ai caduti di San Leonardo alla presenza del Vice
 sindaco Lorenzo Lavagetto e con la partecipazione degli alunni delle scuol
 e Micheli e Toscanini. Lettura di testimonianze a cura del "Gruppo LEAV Le
 ggendaria"\n\n25 aprile 2026\nORE 16:00 \nDeposizione corona presso il mon
 umento ai caduti di Ravadese\nORE 16:20 \nDeposizione corona presso il mon
 umento ai caduti delle Case Vecchie (sarà offerto un aperitivo conviviale
  dal Circolo Amici del Maiale)\nORE 17:00\nDeposizione corona presso il mo
 numento ai caduti di Pizzolese\nORE 17:15 presso il salone parrocchiale è
  previsto lo spettacolo La "resistenza" delle donne con Raimondo Meli Lupi
  e Mirco Reggiani. Voce narrante Angelo Guidozzi (Ingresso Libero)\n\n\n\n
 \n
ATTACH;FMTTYPE=image/jpeg:https://absl.it/wp-content/uploads/2026/04/festa
 -liberazione-scaled.jpg
END:VEVENT
BEGIN:VTIMEZONE
TZID:Europe/Rome
X-LIC-LOCATION:Europe/Rome
BEGIN:DAYLIGHT
DTSTART:20260329T030000
TZOFFSETFROM:+0100
TZOFFSETTO:+0200
TZNAME:CEST
END:DAYLIGHT
END:VTIMEZONE
END:VCALENDAR